BEGIN:VCALENDAR
VERSION:2.0
PRODID:-//hacksw/handcal//NONSGML v1.0//EN
CALSCALE:GREGORIAN
BEGIN:VTIMEZONE
TZID:Europe/Berlin
BEGIN:DAYLIGHT
TZOFFSETFROM:+0100
DTSTART:19810329T020000
RRULE:FREQ=YEARLY;BYMONTH=3;BYDAY=-1SU
TZNAME:MESZ
END:DAYLIGHT
BEGIN:STANDARD
TZOFFSETFROM:+0200
DTSTART:19961027T030000
RRULE:FREQ=YEARLY;BYMONTH=10;BYDAY=-1SU
TZNAME:MEZ
END:STANDARD
END:VTIMEZONE
BEGIN:VEVENT
DTEND;VALUE=DATE:20260327
UID:0
DTSTAMP:DTSTART;VALUE=DATE:20260324
LOCATION:
DESCRIPTION:
URL;VALUE=URI:
SUMMARY:Meet Computomics at the 13th RMI Conference in Lisbon, 24-26 March 2026
DTSTART;VALUE=DATE:20260324
END:VEVENT
END:VCALENDAR
